BEGIN:VCALENDAR
PRODID:-//Google Inc//Google Calendar 70.9054//EN
VERSION:2.0
CALSCALE:GREGORIAN
METHOD:PUBLISH
X-WR-CALNAME:scubadoe
X-WR-TIMEZONE:Europe/Amsterdam
BEGIN:VEVENT
DTSTART:20251121T175000Z
DTEND:20251121T190000Z
DTSTAMP:20260420T110211Z
UID:cli62o9hclgmab9ic8ojib9kcoo30bb2coo30bb36gr6ad9g6cqj8c35co@google.com
CREATED:20250822T151920Z
DESCRIPTION: 
LAST-MODIFIED:20250928T205621Z
LOCATION:Vieboulevard 21 Kerkrade
SEQUENCE:0
STATUS:CONFIRMED
SUMMARY:Training ScubaDoe
TRANSP:OPAQUE
END:VEVENT
BEGIN:VEVENT
DTSTART:20260102T175000Z
DTEND:20260102T190000Z
DTSTAMP:20260420T110211Z
UID:6kr3ge1o6coj6b9icksj6b9kcpi68b9pcgr6ab9mcdimap1n6crj4o9i6c@google.com
CREATED:20250822T151928Z
DESCRIPTION:alleen grote bad 
LAST-MODIFIED:20250928T205621Z
LOCATION:Vieboulevard 21 Kerkrade
SEQUENCE:0
STATUS:CONFIRMED
SUMMARY:Training ScubaDoe
TRANSP:OPAQUE
END:VEVENT
BEGIN:VEVENT
DTSTART:20260306T175000Z
DTEND:20260306T190000Z
DTSTAMP:20260420T110211Z
UID:c4p3edb16kq64b9l6ksjcb9kc9i62b9p6cr68b9h68oj6dhk70o30c1jc8@google.com
CREATED:20250907T171548Z
LAST-MODIFIED:20250928T205621Z
LOCATION:Vieboulevard 21 Kerkrade
SEQUENCE:0
STATUS:CONFIRMED
SUMMARY:Training ScubaDoe
TRANSP:OPAQUE
END:VEVENT
BEGIN:VEVENT
DTSTART:20260109T175000Z
DTEND:20260109T190000Z
DTSTAMP:20260420T110211Z
UID:c9ij8c1h64r64b9n6os3cb9k6gojeb9pcpgm6bb46gq3gpj664q6acj374@google.com
CREATED:20250822T151918Z
DESCRIPTION: 
LAST-MODIFIED:20250928T205621Z
LOCATION:Vieboulevard 21 Kerkrade
SEQUENCE:0
STATUS:CONFIRMED
SUMMARY:Training ScubaDoe
TRANSP:OPAQUE
END:VEVENT
BEGIN:VEVENT
DTSTART:20250926T165000Z
DTEND:20250926T180000Z
DTSTAMP:20260420T110211Z
UID:6gqj4p33cdij2bb46cpjcb9kcgp6abb26gs3eb9i64s3gc1m6gq6cc9mco@google.com
CREATED:20250822T151927Z
DESCRIPTION: 
LAST-MODIFIED:20250928T205621Z
LOCATION:Vieboulevard 21 Kerkrade
SEQUENCE:0
STATUS:CONFIRMED
SUMMARY:Training ScubaDoe
TRANSP:OPAQUE
END:VEVENT
BEGIN:VEVENT
DTSTART:20250829T165000Z
DTEND:20250829T180000Z
DTSTAMP:20260420T110211Z
UID:6ti32phj6phjcb9i70ojgb9k68s64b9pc9i62b9hc8pm2chkc5j34c9hco@google.com
CREATED:20250822T151924Z
LAST-MODIFIED:20250928T205621Z
LOCATION:Vieboulevard 21 Kerkrade
SEQUENCE:0
STATUS:CONFIRMED
SUMMARY:Training ScubaDoe
TRANSP:OPAQUE
END:VEVENT
BEGIN:VEVENT
DTSTART:20251205T175000Z
DTEND:20251205T190000Z
DTSTAMP:20260420T110211Z
UID:61im8or671i3ab9j70q38b9k60o32bb2ccpjgbb1c8q64oj66grmcdhpc4@google.com
CREATED:20250822T151921Z
DESCRIPTION: 
LAST-MODIFIED:20250928T205621Z
LOCATION:Vieboulevard 21 Kerkrade
SEQUENCE:0
STATUS:CONFIRMED
SUMMARY:Training ScubaDoe
TRANSP:OPAQUE
END:VEVENT
BEGIN:VEVENT
DTSTART:20251024T165000Z
DTEND:20251024T180000Z
DTSTAMP:20260420T110211Z
UID:74rjcphj61h3gbb5ccq30b9kc9h32b9occqjib9ncph3idb2ckr68dpl6c@google.com
CREATED:20250822T151925Z
DESCRIPTION: 
LAST-MODIFIED:20250928T205621Z
LOCATION:Vieboulevard 21 Kerkrade
SEQUENCE:0
STATUS:CONFIRMED
SUMMARY:Training ScubaDoe
TRANSP:OPAQUE
END:VEVENT
BEGIN:VEVENT
DTSTART:20260626T165000Z
DTEND:20260626T180000Z
DTSTAMP:20260420T110211Z
UID:6cs68cj470rjgb9ncgsmab9k6lj6abb26gq30b9l6oqm8d1g6tj68dj364@google.com
CREATED:20250822T151930Z
DESCRIPTION: 
LAST-MODIFIED:20250928T205621Z
LOCATION:Vieboulevard 21
SEQUENCE:0
STATUS:CONFIRMED
SUMMARY:Training ScubaDoe
TRANSP:OPAQUE
END:VEVENT
BEGIN:VEVENT
DTSTART:20260313T175000Z
DTEND:20260313T190000Z
DTSTAMP:20260420T110211Z
UID:68r3ip316sq6cbb6ccoj4b9kcphjcb9pcgsj2b9hc8sm4pb574qjge336g@google.com
CREATED:20250822T151924Z
DESCRIPTION: 
LAST-MODIFIED:20250928T205621Z
LOCATION:Vieboulevard 21
SEQUENCE:0
STATUS:CONFIRMED
SUMMARY:Training ScubaDoe
TRANSP:OPAQUE
END:VEVENT
BEGIN:VEVENT
DTSTART:20260130T175000Z
DTEND:20260130T190000Z
DTSTAMP:20260420T110211Z
UID:coo3cdr56thj2b9k6gs66b9k69i34b9p6sq64b9gcdhjepho60o3edpl6s@google.com
CREATED:20250822T151922Z
DESCRIPTION: 
LAST-MODIFIED:20250928T205621Z
LOCATION:Vieboulevard 21 Kerkrade
SEQUENCE:0
STATUS:CONFIRMED
SUMMARY:Training ScubaDoe
TRANSP:OPAQUE
END:VEVENT
BEGIN:VEVENT
DTSTART:20251107T175000Z
DTEND:20251107T190000Z
DTSTAMP:20260420T110211Z
UID:cgrm2e3261i66bb6c5i64b9k6sr34bb26th30b9o6so3gc36clijecb26g@google.com
CREATED:20250822T151929Z
DESCRIPTION: 
LAST-MODIFIED:20250928T205621Z
LOCATION:Vieboulevard 21 Kerkrade
SEQUENCE:0
STATUS:CONFIRMED
SUMMARY:Training ScubaDoe
TRANSP:OPAQUE
END:VEVENT
BEGIN:VEVENT
DTSTART:20260306T175000Z
DTEND:20260306T190000Z
DTSTAMP:20260420T110211Z
UID:6gsj6c1ncdj68b9nccqm2b9kc4o32b9pcdh36bb575ij2dhhc8o68e35cc@google.com
CREATED:20250822T151931Z
DESCRIPTION: 
LAST-MODIFIED:20250928T205621Z
LOCATION:Vieboulevard 21
SEQUENCE:0
STATUS:CONFIRMED
SUMMARY:Training ScubaDoe
TRANSP:OPAQUE
END:VEVENT
BEGIN:VEVENT
DTSTART:20260410T165000Z
DTEND:20260410T180000Z
DTSTAMP:20260420T110211Z
UID:6op62db665h32bb360oj8b9kc4p66b9o6dij6bb66spj0e9g6coj0pb66g@google.com
CREATED:20250822T151923Z
DESCRIPTION: 
LAST-MODIFIED:20250928T205621Z
LOCATION:Vieboulevard 21
SEQUENCE:0
STATUS:CONFIRMED
SUMMARY:Training ScubaDoe
TRANSP:OPAQUE
END:VEVENT
BEGIN:VEVENT
DTSTART:20251003T165000Z
DTEND:20251003T180000Z
DTSTAMP:20260420T110211Z
UID:6gqj0p1lcli34bb2cgp34b9kc8o36b9o6go3abb56pgj0or670r3cc32ck@google.com
CREATED:20250822T151925Z
DESCRIPTION: 
LAST-MODIFIED:20250928T205621Z
LOCATION:Vieboulevard 21 Kerkrade
SEQUENCE:0
STATUS:CONFIRMED
SUMMARY:Training ScubaDoe
TRANSP:OPAQUE
END:VEVENT
BEGIN:VEVENT
DTSTART:20260515T165000Z
DTEND:20260515T180000Z
DTSTAMP:20260420T110211Z
UID:6lijac1jcgr38b9m65ij4b9kcph6ab9o6gp66bb560o66ob4ccrj8p1g64@google.com
CREATED:20250822T151917Z
DESCRIPTION: 
LAST-MODIFIED:20250928T205621Z
LOCATION:Vieboulevard 21
SEQUENCE:0
STATUS:CONFIRMED
SUMMARY:Training ScubaDoe
TRANSP:OPAQUE
END:VEVENT
BEGIN:VEVENT
DTSTART:20260612T165000Z
DTEND:20260612T180000Z
DTSTAMP:20260420T110211Z
UID:71i3ec9n74rm4b9m60pjib9kckrjab9oc9gj4bb46ks3ap35cpi38ophc4@google.com
CREATED:20250822T151933Z
DESCRIPTION: 
LAST-MODIFIED:20250928T205621Z
LOCATION:Vieboulevard 21
SEQUENCE:0
STATUS:CONFIRMED
SUMMARY:Training ScubaDoe
TRANSP:OPAQUE
END:VEVENT
BEGIN:VEVENT
DTSTART:20260529T165000Z
DTEND:20260529T180000Z
DTSTAMP:20260420T110211Z
UID:c4sjgpj1cdij2bb1clj30b9k65hjeb9p74rmcb9m70o32cr670rm8ob4co@google.com
CREATED:20250822T151932Z
DESCRIPTION: 
LAST-MODIFIED:20250928T205621Z
LOCATION:Vieboulevard 21
SEQUENCE:0
STATUS:CONFIRMED
SUMMARY:Training ScubaDoe
TRANSP:OPAQUE
END:VEVENT
BEGIN:VEVENT
DTSTART:20260227T175000Z
DTEND:20260227T190000Z
DTSTAMP:20260420T110211Z
UID:70oj2e9jc8q36bb5c5h34b9k6lgm6b9oc5h32b9h69gm8c9m70s3ecj470@google.com
CREATED:20250831T030321Z
DESCRIPTION: 
LAST-MODIFIED:20250928T205621Z
LOCATION:Vieboulevard 21 Kerkrade
SEQUENCE:0
STATUS:CONFIRMED
SUMMARY:Training ScubaDoe
TRANSP:OPAQUE
END:VEVENT
BEGIN:VEVENT
DTSTART:20251114T175000Z
DTEND:20251114T190000Z
DTSTAMP:20260420T110211Z
UID:cdhjgcj56cq3ebb1ckr6ab9k6tgj8b9p70pm4b9o6hi68dhn6gom8pb3ck@google.com
CREATED:20250822T151919Z
DESCRIPTION: 
LAST-MODIFIED:20250928T205621Z
LOCATION:Vieboulevard 21 Kerkrade
SEQUENCE:0
STATUS:CONFIRMED
SUMMARY:Training ScubaDoe
TRANSP:OPAQUE
END:VEVENT
BEGIN:VEVENT
DTSTART:20251128T175000Z
DTEND:20251128T190000Z
DTSTAMP:20260420T110211Z
UID:64q66c9l70ojeb9n60sjib9kcos30b9p6ti6cb9n6opjcoj2copj0o9l6s@google.com
CREATED:20250822T151923Z
DESCRIPTION: 
LAST-MODIFIED:20250928T205621Z
LOCATION:Vieboulevard 21 Kerkrade
SEQUENCE:0
STATUS:CONFIRMED
SUMMARY:Training ScubaDoe
TRANSP:OPAQUE
END:VEVENT
BEGIN:VEVENT
DTSTART:20260327T175000Z
DTEND:20260327T190000Z
DTSTAMP:20260420T110211Z
UID:c8sj2dj66lh66bb571gjcb9k6spm8bb1c4pj0b9ochgj6d3474q38c32co@google.com
CREATED:20250822T151917Z
DESCRIPTION: 
LAST-MODIFIED:20250928T205621Z
LOCATION:Vieboulevard 21
SEQUENCE:0
STATUS:CONFIRMED
SUMMARY:Training ScubaDoe
TRANSP:OPAQUE
END:VEVENT
BEGIN:VEVENT
DTSTART:20260619T165000Z
DTEND:20260619T180000Z
DTSTAMP:20260420T110211Z
UID:cdh3acr36grjcb9i74qm2b9kcgr62b9o6gqmcb9mckp30c34cgpj0e9oc4@google.com
CREATED:20250822T151921Z
DESCRIPTION: 
LAST-MODIFIED:20250928T205621Z
LOCATION:Vieboulevard 21
SEQUENCE:0
STATUS:CONFIRMED
SUMMARY:Training ScubaDoe
TRANSP:OPAQUE
END:VEVENT
BEGIN:VEVENT
DTSTART:20260123T175000Z
DTEND:20260123T190000Z
DTSTAMP:20260420T110211Z
UID:c4p38c9g75ij2b9j6pij6b9kc5j6cb9p6csjab9l6pgjed9h64s68c1l74@google.com
CREATED:20250822T151931Z
DESCRIPTION: 
LAST-MODIFIED:20250928T205621Z
LOCATION:Vieboulevard 21 Kerkrade
SEQUENCE:0
STATUS:CONFIRMED
SUMMARY:Training ScubaDoe
TRANSP:OPAQUE
END:VEVENT
BEGIN:VEVENT
DTSTART:20250905T165000Z
DTEND:20250905T180000Z
DTSTAMP:20260420T110211Z
UID:c9imacph74omcb9n74p3ib9k6kq38bb26oqj2bb568r3ee1lclim6cpn6o@google.com
CREATED:20250822T151928Z
DESCRIPTION: 
LAST-MODIFIED:20250928T205621Z
LOCATION:Vieboulevard 21 Kerkrade
SEQUENCE:0
STATUS:CONFIRMED
SUMMARY:Training ScubaDoe
TRANSP:OPAQUE
END:VEVENT
BEGIN:VEVENT
DTSTART:20251212T175000Z
DTEND:20251212T190000Z
DTSTAMP:20260420T110211Z
UID:6dhj2oj569ijab9p6oomab9k68rj8bb271im2b9k6osjaopm6oqj6dr5co@google.com
CREATED:20250822T151926Z
DESCRIPTION: 
LAST-MODIFIED:20250928T205621Z
LOCATION:Vieboulevard 21 Kerkrade
SEQUENCE:0
STATUS:CONFIRMED
SUMMARY:Training ScubaDoe
TRANSP:OPAQUE
END:VEVENT
BEGIN:VEVENT
DTSTART:20260605T165000Z
DTEND:20260605T180000Z
DTSTAMP:20260420T110211Z
UID:6opj8c1h75gjgb9jcoo30b9kcgsjib9oc4p3ab9g60ojad9n60p3apj674@google.com
CREATED:20250822T151924Z
DESCRIPTION: 
LAST-MODIFIED:20250928T205621Z
LOCATION:Vieboulevard 21
SEQUENCE:0
STATUS:CONFIRMED
SUMMARY:Training ScubaDoe
TRANSP:OPAQUE
END:VEVENT
BEGIN:VEVENT
DTSTART:20260403T165000Z
DTEND:20260403T180000Z
DTSTAMP:20260420T110211Z
UID:cdj68p9jcgp3ibb46hj68b9k6thm6b9pc8rmcbb66sr3ac346ti3go9jcc@google.com
CREATED:20250822T151933Z
DESCRIPTION: 
LAST-MODIFIED:20250928T205621Z
LOCATION:Vieboulevard 21
SEQUENCE:0
STATUS:CONFIRMED
SUMMARY:Training ScubaDoe
TRANSP:OPAQUE
END:VEVENT
BEGIN:VEVENT
DTSTART:20260313T175000Z
DTEND:20260313T190000Z
DTSTAMP:20260420T110211Z
UID:c5hj6cho6pi3eb9p69h36b9k6kp36bb165imcb9h6lj64cj26hhj6d9jco@google.com
CREATED:20250912T152620Z
LAST-MODIFIED:20250928T205621Z
LOCATION:Vieboulevard 21 Kerkrade
SEQUENCE:0
STATUS:CONFIRMED
SUMMARY:Training ScubaDoe
TRANSP:OPAQUE
END:VEVENT
BEGIN:VEVENT
DTSTART:20260220T175000Z
DTEND:20260220T190000Z
DTSTAMP:20260420T110211Z
UID:6hhj0e1n6lhm4bb5ccp38b9kc9i3ib9pc4ojgb9n6gpj4p346oom4chh70@google.com
CREATED:20250828T151553Z
DESCRIPTION: 
LAST-MODIFIED:20250928T205621Z
LOCATION:Vieboulevard 21 Kerkrade
SEQUENCE:0
STATUS:CONFIRMED
SUMMARY:Training ScubaDoe
TRANSP:OPAQUE
END:VEVENT
BEGIN:VEVENT
DTSTART:20260522T165000Z
DTEND:20260522T180000Z
DTSTAMP:20260420T110211Z
UID:71j3apj3copm6bb2cop64b9kcgp3cb9p75h34b9ochgjiohk6ti64c1o68@google.com
CREATED:20250822T151921Z
DESCRIPTION:alleen grote bad 
LAST-MODIFIED:20250928T205621Z
LOCATION:Vieboulevard 21
SEQUENCE:0
STATUS:CONFIRMED
SUMMARY:Training ScubaDoe
TRANSP:OPAQUE
END:VEVENT
BEGIN:VEVENT
DTSTART:20250912T165000Z
DTEND:20250912T180000Z
DTSTAMP:20260420T110211Z
UID:cosj2dj6ckr3eb9kc8rjib9k60rj0b9oc4q64b9o74o66cpn6gs62cr66o@google.com
CREATED:20250822T151926Z
DESCRIPTION: 
LAST-MODIFIED:20250928T205621Z
LOCATION:Vieboulevard 21 Kerkrade
SEQUENCE:0
STATUS:CONFIRMED
SUMMARY:Training ScubaDoe
TRANSP:OPAQUE
END:VEVENT
BEGIN:VEVENT
DTSTART:20260320T175000Z
DTEND:20260320T190000Z
DTSTAMP:20260420T110211Z
UID:c9hjgc9n6cqmabb2cli66b9k6cp66bb26cp32b9icgs36phhc9hjee1hc4@google.com
CREATED:20250920T055429Z
LAST-MODIFIED:20250928T205621Z
LOCATION:Vieboulevard 21 Kerkrade
SEQUENCE:0
STATUS:CONFIRMED
SUMMARY:Training ScubaDoe
TRANSP:OPAQUE
END:VEVENT
BEGIN:VEVENT
DTSTART:20250919T165000Z
DTEND:20250919T180000Z
DTSTAMP:20260420T110211Z
UID:c5imac1n64pjebb16gr3eb9kcor3gb9o68sm8bb26ss68d9k64o38cpj60@google.com
CREATED:20250822T151932Z
DESCRIPTION: 
LAST-MODIFIED:20250928T205621Z
LOCATION:Vieboulevard 21 Kerkrade
SEQUENCE:0
STATUS:CONFIRMED
SUMMARY:Training ScubaDoe
TRANSP:OPAQUE
END:VEVENT
BEGIN:VEVENT
DTSTART:20260206T175000Z
DTEND:20260206T190000Z
DTSTAMP:20260420T110211Z
UID:6gsmaphoc5i66bb5c4s6cb9k6sr30bb265gjcb9i6lj3io9k64rm6c1g6k@google.com
CREATED:20250822T151922Z
DESCRIPTION: 
LAST-MODIFIED:20250928T205621Z
LOCATION:Vieboulevard 21 Kerkrade
SEQUENCE:0
STATUS:CONFIRMED
SUMMARY:Training ScubaDoe
TRANSP:OPAQUE
END:VEVENT
BEGIN:VEVENT
DTSTART:20260320T175000Z
DTEND:20260320T190000Z
DTSTAMP:20260420T110211Z
UID:c8pjcdr2cko68bb470pjab9k61hm4bb261ijeb9i61j66db36lgm2c9i6k@google.com
CREATED:20250822T151929Z
DESCRIPTION: 
LAST-MODIFIED:20250928T205621Z
LOCATION:Vieboulevard 21
SEQUENCE:0
STATUS:CONFIRMED
SUMMARY:Training ScubaDoe
TRANSP:OPAQUE
END:VEVENT
BEGIN:VEVENT
DTSTART:20260703T165000Z
DTEND:20260703T180000Z
DTSTAMP:20260420T110211Z
UID:6hi3gd9i64sm6b9p6ko3gb9kckp62bb16csm2b9nc8s34opi71gj4dhh68@google.com
CREATED:20250822T151918Z
DESCRIPTION: 
LAST-MODIFIED:20250928T205621Z
LOCATION:Vieboulevard 21
SEQUENCE:0
STATUS:CONFIRMED
SUMMARY:Training ScubaDoe
TRANSP:OPAQUE
END:VEVENT
BEGIN:VEVENT
DTSTART:20260508T165000Z
DTEND:20260508T180000Z
DTSTAMP:20260420T110211Z
UID:cgp32p1j65ij6b9j6oq3gb9k68q36bb2corj2b9gc8rm4e3270qj6c1nc8@google.com
CREATED:20250822T151919Z
DESCRIPTION: 
LAST-MODIFIED:20250928T205621Z
LOCATION:Vieboulevard 21
SEQUENCE:0
STATUS:CONFIRMED
SUMMARY:Training ScubaDoe
TRANSP:OPAQUE
END:VEVENT
BEGIN:VEVENT
DTSTART:20251031T175000Z
DTEND:20251031T190000Z
DTSTAMP:20260420T110211Z
UID:64oj6cr564pjib9n65h64b9k61h3eb9pc8rm8b9j6ph62d36cgr68dpo6o@google.com
CREATED:20250822T151931Z
DESCRIPTION: 
LAST-MODIFIED:20250928T205621Z
LOCATION:Vieboulevard 21 Kerkrade
SEQUENCE:0
STATUS:CONFIRMED
SUMMARY:Training ScubaDoe
TRANSP:OPAQUE
END:VEVENT
BEGIN:VEVENT
DTSTART:20260227T175000Z
DTEND:20260227T190000Z
DTSTAMP:20260420T110211Z
UID:6tgjidj16gpjib9h6lh3ib9kclhj8bb264sjcbb464ojcob5ckr6cor6cc@google.com
CREATED:20250822T151930Z
DESCRIPTION: 
LAST-MODIFIED:20250928T205621Z
LOCATION:Vieboulevard 21
SEQUENCE:0
STATUS:CONFIRMED
SUMMARY:Training ScubaDoe
TRANSP:OPAQUE
END:VEVENT
BEGIN:VEVENT
DTSTART:20250822T165000Z
DTEND:20250822T180000Z
DTSTAMP:20260420T110211Z
UID:cko6cohl6sp64b9n71im2b9k6osmabb26gpm2b9oc4qj8cr371hjgd9hc8@google.com
CREATED:20250822T151927Z
LAST-MODIFIED:20250928T205621Z
LOCATION:Vieboulevard 21 Kerkrade
SEQUENCE:0
STATUS:CONFIRMED
SUMMARY:Training ScubaDoe
TRANSP:OPAQUE
END:VEVENT
BEGIN:VEVENT
DTSTART:20260116T175000Z
DTEND:20260116T190000Z
DTSTAMP:20260420T110211Z
UID:60sm8dhochi3gb9l70oj8b9k71hj2bb16ksjebb56kp3cp3174sm4cpg64@google.com
CREATED:20250822T151920Z
DESCRIPTION: 
LAST-MODIFIED:20250928T205621Z
LOCATION:Vieboulevard 21 Kerkrade
SEQUENCE:0
STATUS:CONFIRMED
SUMMARY:Training ScubaDoe
TRANSP:OPAQUE
END:VEVENT

END:VCALENDAR