BEGIN:VCALENDAR
PRODID:-//Google Inc//Google Calendar 70.9054//EN
VERSION:2.0
CALSCALE:GREGORIAN
METHOD:PUBLISH
X-WR-CALNAME:persluchtvullen
X-WR-TIMEZONE:Europe/Amsterdam
BEGIN:VEVENT
DTSTART:20260402T220000Z
DTEND:20260406T180000Z
DTSTAMP:20260420T110057Z
UID:68r66dr6cks34b9lcoo3cb9k6cp30bb2chgm4bb1c8qmadb46gsm2e9gcg@google.com
CREATED:20250822T151942Z
DESCRIPTION: 
LAST-MODIFIED:20250928T205621Z
SEQUENCE:0
STATUS:CONFIRMED
SUMMARY:Kevin
TRANSP:OPAQUE
END:VEVENT
BEGIN:VEVENT
DTSTART:20260122T230000Z
DTEND:20260126T190000Z
DTSTAMP:20260420T110057Z
UID:70sj6e31cor30b9pckqj4b9kc9hjib9p6dhmcb9l6koj6chmcoo3aohi74@google.com
CREATED:20250822T151937Z
DESCRIPTION: 
LAST-MODIFIED:20250928T205621Z
SEQUENCE:0
STATUS:CONFIRMED
SUMMARY:Ruud
TRANSP:OPAQUE
END:VEVENT
BEGIN:VEVENT
DTSTART:20251113T230000Z
DTEND:20251117T190000Z
DTSTAMP:20260420T110057Z
UID:copmap9n6srj8b9o65gm6b9kc5h62bb264q30b9k6srjip9p6or6cob4cc@google.com
CREATED:20250822T151934Z
DESCRIPTION: 
LAST-MODIFIED:20250928T205621Z
SEQUENCE:0
STATUS:CONFIRMED
SUMMARY:Jeffrey
TRANSP:OPAQUE
END:VEVENT
BEGIN:VEVENT
DTSTART:20260305T230000Z
DTEND:20260309T190000Z
DTSTAMP:20260420T110057Z
UID:6hj3ae9i71h38b9p70s66b9k6oq32bb2cgojibb66hgj8c9l70q62p1k60@google.com
CREATED:20250822T151939Z
DESCRIPTION: 
LAST-MODIFIED:20250928T205621Z
SEQUENCE:0
STATUS:CONFIRMED
SUMMARY:Jeffrey
TRANSP:OPAQUE
END:VEVENT
BEGIN:VEVENT
DTSTART:20260528T220000Z
DTEND:20260601T180000Z
DTSTAMP:20260420T110057Z
UID:64q3aor3c5j66b9mc8s3gb9k69i3cbb26thm4b9j64qjaohh64pjieb56s@google.com
CREATED:20250822T151935Z
DESCRIPTION: 
LAST-MODIFIED:20250928T205621Z
SEQUENCE:0
STATUS:CONFIRMED
SUMMARY:Jeffrey
TRANSP:OPAQUE
END:VEVENT
BEGIN:VEVENT
DTSTART:20250904T220000Z
DTEND:20250908T180000Z
DTSTAMP:20260420T110057Z
UID:cor38o9icco34bb3c5h3eb9kckpjeb9o6ss64b9l65i6cphhcpgjcchh6k@google.com
CREATED:20250822T151944Z
DESCRIPTION: 
LAST-MODIFIED:20250928T205621Z
SEQUENCE:0
STATUS:CONFIRMED
SUMMARY:Boudewijn
TRANSP:OPAQUE
END:VEVENT
BEGIN:VEVENT
DTSTART:20251030T230000Z
DTEND:20251103T190000Z
DTSTAMP:20260420T110057Z
UID:65j3idb371j3eb9l6li68b9k74oj6b9o6gsm4bb26op38cppc4qjic9g70@google.com
CREATED:20250822T151933Z
DESCRIPTION: 
LAST-MODIFIED:20250928T205621Z
SEQUENCE:0
STATUS:CONFIRMED
SUMMARY:Sander
TRANSP:OPAQUE
END:VEVENT
BEGIN:VEVENT
DTSTART:20250918T220000Z
DTEND:20250922T180000Z
DTSTAMP:20260420T110057Z
UID:cphm2d9i6hij2b9i6tj3eb9k6oqj6bb1c8qjabb16gpjic9p60oj4p9m70@google.com
CREATED:20250822T151945Z
DESCRIPTION: 
LAST-MODIFIED:20250928T205621Z
SEQUENCE:0
STATUS:CONFIRMED
SUMMARY:Kevin
TRANSP:OPAQUE
END:VEVENT
BEGIN:VEVENT
DTSTART:20260709T220000Z
DTEND:20260713T180000Z
DTSTAMP:20260420T110057Z
UID:69h36d9g65hj4b9g6ks3eb9k75imcbb1ccqjgb9g75j62dr6chi66dr470@google.com
CREATED:20250822T151935Z
DESCRIPTION: 
LAST-MODIFIED:20250928T205621Z
SEQUENCE:0
STATUS:CONFIRMED
SUMMARY:Ruud
TRANSP:OPAQUE
END:VEVENT
BEGIN:VEVENT
DTSTART:20260514T220000Z
DTEND:20260518T180000Z
DTSTAMP:20260420T110057Z
UID:65h6acpncor3cb9j70rm6b9k61ijcb9o6or6cb9oc9h6aob2ccsjap366c@google.com
CREATED:20250822T151941Z
DESCRIPTION: 
LAST-MODIFIED:20250928T205621Z
SEQUENCE:0
STATUS:CONFIRMED
SUMMARY:Sander
TRANSP:OPAQUE
END:VEVENT
BEGIN:VEVENT
DTSTART:20260611T220000Z
DTEND:20260615T180000Z
DTSTAMP:20260420T110057Z
UID:cgq68e1hcooj8b9occr3ab9kcgojcbb165ij4b9jc9h6adj16tij0dhock@google.com
CREATED:20250822T151938Z
DESCRIPTION: 
LAST-MODIFIED:20250928T205621Z
SEQUENCE:0
STATUS:CONFIRMED
SUMMARY:Boudewijn
TRANSP:OPAQUE
END:VEVENT
BEGIN:VEVENT
DTSTART:20260625T220000Z
DTEND:20260629T180000Z
DTSTAMP:20260420T110057Z
UID:60pm6chk64qjgb9p6kq64b9k71j68b9p75j36b9hc8s38chichijgdj56c@google.com
CREATED:20250822T151943Z
DESCRIPTION: 
LAST-MODIFIED:20250928T205621Z
SEQUENCE:0
STATUS:CONFIRMED
SUMMARY:Kevin
TRANSP:OPAQUE
END:VEVENT
BEGIN:VEVENT
DTSTART:20251211T230000Z
DTEND:20251215T190000Z
DTSTAMP:20260420T110057Z
UID:6osmceb468r3ib9n6oo62b9k60p30bb270rjcbb36kp3adph68o3gchk60@google.com
CREATED:20250822T151940Z
DESCRIPTION: 
LAST-MODIFIED:20250928T205621Z
SEQUENCE:0
STATUS:CONFIRMED
SUMMARY:Kevin
TRANSP:OPAQUE
END:VEVENT
BEGIN:VEVENT
DTSTART:20260319T230000Z
DTEND:20260323T190000Z
DTSTAMP:20260420T110057Z
UID:71h34e336soj8bb670q30b9kccojeb9p6ss3cb9g64s36oj36gqjgd1nco@google.com
CREATED:20250822T151939Z
DESCRIPTION: 
LAST-MODIFIED:20250928T205621Z
SEQUENCE:0
STATUS:CONFIRMED
SUMMARY:Boudewijn
TRANSP:OPAQUE
END:VEVENT
BEGIN:VEVENT
DTSTART:20260205T230000Z
DTEND:20260209T190000Z
DTSTAMP:20260420T110057Z
UID:70rjap31c8rm6b9n60pm4b9k60rjebb16gq68bb4c4q36d9l68s66c9i6g@google.com
CREATED:20250822T151936Z
DESCRIPTION: 
LAST-MODIFIED:20250928T205621Z
SEQUENCE:0
STATUS:CONFIRMED
SUMMARY:Sander
TRANSP:OPAQUE
END:VEVENT
BEGIN:VEVENT
DTSTART:20251002T220000Z
DTEND:20251006T180000Z
DTSTAMP:20260420T110057Z
UID:clj32dr36osj0b9k61j3ab9kc9hj4bb16tgjib9k6com2dpl6sr36chk60@google.com
CREATED:20250822T151938Z
DESCRIPTION: 
LAST-MODIFIED:20250928T205621Z
SEQUENCE:0
STATUS:CONFIRMED
SUMMARY:Ruud
TRANSP:OPAQUE
END:VEVENT
BEGIN:VEVENT
DTSTART:20260430T220000Z
DTEND:20260504T180000Z
DTSTAMP:20260420T110057Z
UID:6lgmaopk71hm4b9l6gs3eb9kcgp3eb9o64rjgbb6cor32pj46cp68dj66c@google.com
CREATED:20250822T151934Z
DESCRIPTION: 
LAST-MODIFIED:20250928T205621Z
SEQUENCE:0
STATUS:CONFIRMED
SUMMARY:Ruud
TRANSP:OPAQUE
END:VEVENT
BEGIN:VEVENT
DTSTART:20251127T230000Z
DTEND:20251201T190000Z
DTSTAMP:20260420T110057Z
UID:c8rmceb670sj8bb4c4qjgb9kcop6ab9pchimcb9i6ksjaeb2clh3ad9k74@google.com
CREATED:20250822T151936Z
DESCRIPTION: 
LAST-MODIFIED:20250928T205621Z
SEQUENCE:0
STATUS:CONFIRMED
SUMMARY:Boudewijn
TRANSP:OPAQUE
END:VEVENT

END:VCALENDAR