BEGIN:VCALENDAR
PRODID:-//Google Inc//Google Calendar 70.9054//EN
VERSION:2.0
CALSCALE:GREGORIAN
METHOD:PUBLISH
X-WR-CALNAME:oteam
X-WR-TIMEZONE:Europe/Amsterdam
BEGIN:VEVENT
DTSTART:20250823T090000Z
DTEND:20250824T140000Z
DTSTAMP:20260420T110051Z
UID:68r66cb471j3cb9i68qj6b9k6srm6bb26hi3ab9h69gjecpj6somcoj3co@google.com
CREATED:20250822T153709Z
DESCRIPTION:Dit jaar trekken we in het weekend van 23 & 24 augustus naar he
 t Zilvermeer voor een gezellig clubweekend met overnachting. We kamperen op
  het terrein met zelf meegebrachte tenten. Zaterdag en zondag staat er een 
 clubduik op het programma\, en speciaal voor de jeugd organiseren Jeffrey &
  Kevin opnieuw een begeleide jeugdduik één van de hoogtepunten van het jaar
 !\n\nSenioren buddyparen mogen\, mits gebrevetteerd\, zelfstandig duiken. K
 inderen onder de 18 jaar moeten vergezeld worden door een ouder/verzorger.\
 n\nWe verzamelen zaterdag om 11:00 op de parking van het Zilvermeer in Mol.
  Van daaruit rijden we samen naar de kampeerplek\, zetten de tenten op en r
 ichten het kamp in\, met als hoofdkwartier onze bekende legertent. ’s Midda
 gs is er een jeugdduik en een spelactiviteit. Lunch en avondeten worden voo
 rzien. We sluiten de dag af met een gezellig samenzijn rond het kampvuur.\n
 \nZondag starten we met een gezamenlijk ontbijt en is er opnieuw de mogelij
 kheid om te duiken.\n\nKosten: €10 p.p. (incl. eten\, drinken\, entree en o
 vernachting)\nAanmelden: uiterlijk 4 weken op voorhand\nVergeet niet: tent\
 , slaapzak & campingstoel\n\n👉 www.zilvermeer.be\n\nWe rekenen op goed wee
 r en veel sfeer  tot dan!
LAST-MODIFIED:20250928T205621Z
LOCATION:Zilvermeer provinciaal recreatiedomein
SEQUENCE:0
STATUS:CONFIRMED
SUMMARY:23 & 24 augustus 2025\nClubweekend met Clubduik Zilvermeer
TRANSP:OPAQUE
END:VEVENT

END:VCALENDAR