BEGIN:VCALENDAR
PRODID:-//Google Inc//Google Calendar 70.9054//EN
VERSION:2.0
CALSCALE:GREGORIAN
METHOD:PUBLISH
X-WR-CALNAME:maandagtraining
X-WR-TIMEZONE:Europe/Amsterdam
BEGIN:VEVENT
DTSTART:20251110T190000Z
DTEND:20251110T203000Z
DTSTAMP:20260420T110348Z
UID:68s66or164r3cb9kcgq3gb9k69h62bb261i32b9mc5i68d1g6crj2p9icc@google.com
CREATED:20250822T151743Z
DESCRIPTION: 
LAST-MODIFIED:20250928T205623Z
LOCATION:Vieboulevard 21
SEQUENCE:0
STATUS:CONFIRMED
SUMMARY:Training
TRANSP:OPAQUE
END:VEVENT
BEGIN:VEVENT
DTSTART:20260209T190000Z
DTEND:20260209T203000Z
DTSTAMP:20260420T110348Z
UID:c8qjad1ichij8b9h61i34b9kccq30bb16th3eb9pc8rjeor56goj2dhn6k@google.com
CREATED:20250822T151803Z
DESCRIPTION: 
LAST-MODIFIED:20250928T205623Z
LOCATION:Vieboulevard 21 Kerkrade
SEQUENCE:0
STATUS:CONFIRMED
SUMMARY:Training
TRANSP:OPAQUE
END:VEVENT
BEGIN:VEVENT
DTSTART:20250825T180000Z
DTEND:20250825T193000Z
DTSTAMP:20260420T110348Z
UID:68r3ec35ckr3gbb270p3ab9k6oqj4bb1c5i38b9h6gqjeeb26ti6ac1h6c@google.com
CREATED:20250822T151800Z
DESCRIPTION:Basis persluchttraing na de vakantie
LAST-MODIFIED:20250928T205623Z
LOCATION:Vieboulevard 21
SEQUENCE:0
STATUS:CONFIRMED
SUMMARY:Perslucht Training
TRANSP:OPAQUE
END:VEVENT
BEGIN:VEVENT
DTSTART:20260601T180000Z
DTEND:20260601T193000Z
DTSTAMP:20260420T110348Z
UID:6com2e1hc9gjibb360pjab9k70s3eb9pclj36bb16gqm8c1ic8r30ohl60@google.com
CREATED:20250822T151747Z
DESCRIPTION: 
LAST-MODIFIED:20250928T205623Z
LOCATION:Vieboulevard 21 Kerkrade
SEQUENCE:0
STATUS:CONFIRMED
SUMMARY:Training
TRANSP:OPAQUE
END:VEVENT
BEGIN:VEVENT
DTSTART:20260223T190000Z
DTEND:20260223T203000Z
DTSTAMP:20260420T110348Z
UID:clhjid32ckojab9nc8r64b9k70p64b9ockrj2bb6chh3epho6phmccb1cg@google.com
CREATED:20250822T151752Z
DESCRIPTION: 
LAST-MODIFIED:20250928T205623Z
LOCATION:Vieboulevard 21 Kerkrade
SEQUENCE:0
STATUS:CONFIRMED
SUMMARY:Training
TRANSP:OPAQUE
END:VEVENT
BEGIN:VEVENT
DTSTART:20260504T180000Z
DTEND:20260504T193000Z
DTSTAMP:20260420T110348Z
UID:74r30p1g6thj2b9mcopjcb9k68sj4bb2c8o6cb9m70ojgp1l71h64e3274@google.com
CREATED:20250822T151759Z
DESCRIPTION: 
LAST-MODIFIED:20250928T205623Z
LOCATION:Vieboulevard 21 Kerkrade
SEQUENCE:0
STATUS:CONFIRMED
SUMMARY:Training
TRANSP:OPAQUE
END:VEVENT
BEGIN:VEVENT
DTSTART:20260518T180000Z
DTEND:20260518T193000Z
DTSTAMP:20260420T110348Z
UID:c9h38or174q3gbb3ckoj2b9kcdgm2bb275gj2b9pcgr3ap9h74smadr36c@google.com
CREATED:20250822T151756Z
DESCRIPTION: 
LAST-MODIFIED:20250928T205623Z
LOCATION:Vieboulevard 21 Kerkrade
SEQUENCE:0
STATUS:CONFIRMED
SUMMARY:Training
TRANSP:OPAQUE
END:VEVENT
BEGIN:VEVENT
DTSTART:20260316T190000Z
DTEND:20260316T203000Z
DTSTAMP:20260420T110348Z
UID:6gsmac1jcdj38bb46csj8b9k6oq6abb26ksjgb9n70q68o9kc8r6co9g68@google.com
CREATED:20250822T151748Z
DESCRIPTION: 
LAST-MODIFIED:20250928T205623Z
LOCATION:Vieboulevard 21 Kerkrade
SEQUENCE:0
STATUS:CONFIRMED
SUMMARY:Training
TRANSP:OPAQUE
END:VEVENT
BEGIN:VEVENT
DTSTART:20251103T190000Z
DTEND:20251103T203000Z
DTSTAMP:20260420T110348Z
UID:70r3cc336hh38b9m69hj8b9kcgrjab9p75j38bb4cli68or5chgj2p1k64@google.com
CREATED:20250822T151756Z
DESCRIPTION: 
LAST-MODIFIED:20250928T205623Z
LOCATION:Vieboulevard 21
SEQUENCE:0
STATUS:CONFIRMED
SUMMARY:Training
TRANSP:OPAQUE
END:VEVENT
BEGIN:VEVENT
DTSTART:20260105T190000Z
DTEND:20260105T203000Z
DTSTAMP:20260420T110348Z
UID:74s64d9ic4s36bb3c4qjeb9k6kp3ebb1chij8bb26dgjie9l6gr64o9lco@google.com
CREATED:20250822T151758Z
DESCRIPTION: 
LAST-MODIFIED:20250928T205623Z
LOCATION:Vieboulevard 21 Kerkrade
SEQUENCE:0
STATUS:CONFIRMED
SUMMARY:Training
TRANSP:OPAQUE
END:VEVENT
BEGIN:VEVENT
DTSTART:20260323T190000Z
DTEND:20260323T203000Z
DTSTAMP:20260420T110348Z
UID:ccpjaeb36hgm8b9lc9j6cb9k64rmab9ocop62bb1corm4c1j65im8chn6c@google.com
CREATED:20250822T151744Z
DESCRIPTION: 
LAST-MODIFIED:20250928T205623Z
LOCATION:Vieboulevard 21 Kerkrade
SEQUENCE:0
STATUS:CONFIRMED
SUMMARY:Training
TRANSP:OPAQUE
END:VEVENT
BEGIN:VEVENT
DTSTART:20260302T190000Z
DTEND:20260302T203000Z
DTSTAMP:20260420T110348Z
UID:68qj8oj468pjgb9mc5j3cb9k74s38b9ocks32b9pchj64oj16go62cr46g@google.com
CREATED:20250822T151746Z
DESCRIPTION: 
LAST-MODIFIED:20250928T205623Z
LOCATION:Vieboulevard 21 Kerkrade
SEQUENCE:0
STATUS:CONFIRMED
SUMMARY:Training
TRANSP:OPAQUE
END:VEVENT
BEGIN:VEVENT
DTSTART:20260511T180000Z
DTEND:20260511T193000Z
DTSTAMP:20260420T110348Z
UID:c4q62ohi60qm8b9o6sojab9k60o3cbb1cgqjeb9mcor6acb671hj0oho60@google.com
CREATED:20250822T151754Z
DESCRIPTION: 
LAST-MODIFIED:20250928T205623Z
LOCATION:Vieboulevard 21 Kerkrade
SEQUENCE:0
STATUS:CONFIRMED
SUMMARY:Training
TRANSP:OPAQUE
END:VEVENT
BEGIN:VEVENT
DTSTART:20251124T190000Z
DTEND:20251124T203000Z
DTSTAMP:20260420T110348Z
UID:68s3ieb171gm8b9p71h3ab9k75h3cbb26hi64bb36ssmce9j64o6cp1p6c@google.com
CREATED:20250822T151749Z
DESCRIPTION: 
LAST-MODIFIED:20250928T205623Z
LOCATION:Vieboulevard 21
SEQUENCE:0
STATUS:CONFIRMED
SUMMARY:Training
TRANSP:OPAQUE
END:VEVENT
BEGIN:VEVENT
DTSTART:20251208T190000Z
DTEND:20251208T203000Z
DTSTAMP:20260420T110348Z
UID:6gp64c366orm2bb364o3ab9kckqm8b9pcko6cb9j6grmce1o74o68ob36c@google.com
CREATED:20250822T151746Z
DESCRIPTION: 
LAST-MODIFIED:20250928T205623Z
LOCATION:Vieboulevard 21 Kerkrade
SEQUENCE:0
STATUS:CONFIRMED
SUMMARY:Training
TRANSP:OPAQUE
END:VEVENT
BEGIN:VEVENT
DTSTART:20251027T190000Z
DTEND:20251027T203000Z
DTSTAMP:20260420T110348Z
UID:ckr38e346opj8b9m74oj2b9k65hjcbb164r62b9o6sp32phh68oj4d9g64@google.com
CREATED:20250822T151757Z
DESCRIPTION: 
LAST-MODIFIED:20250928T205623Z
LOCATION:Vieboulevard 21
SEQUENCE:0
STATUS:CONFIRMED
SUMMARY:Training
TRANSP:OPAQUE
END:VEVENT
BEGIN:VEVENT
DTSTART:20260330T180000Z
DTEND:20260330T193000Z
DTSTAMP:20260420T110348Z
UID:ckrj2p356him6bb1cgs6ab9k6sq32b9ochijcbb26pij2e1p70q34e1jck@google.com
CREATED:20250822T151743Z
DESCRIPTION: 
LAST-MODIFIED:20250928T205623Z
LOCATION:Vieboulevard 21 Kerkrade
SEQUENCE:0
STATUS:CONFIRMED
SUMMARY:Training
TRANSP:OPAQUE
END:VEVENT
BEGIN:VEVENT
DTSTART:20260112T190000Z
DTEND:20260112T203000Z
DTSTAMP:20260420T110348Z
UID:75gm2chm69h36b9j6lijcb9kc8p38bb2ckpjeb9jc4sjepb66cs3ap1j68@google.com
CREATED:20250822T151745Z
DESCRIPTION: 
LAST-MODIFIED:20250928T205623Z
LOCATION:Vieboulevard 21 Kerkrade
SEQUENCE:0
STATUS:CONFIRMED
SUMMARY:Training
TRANSP:OPAQUE
END:VEVENT
BEGIN:VEVENT
DTSTART:20250908T180000Z
DTEND:20250908T193000Z
DTSTAMP:20260420T110348Z
UID:6pj6ce346sojab9n68pjgb9k60s34bb269i3cbb461h36p9o6dh36opn68@google.com
CREATED:20250822T151747Z
DESCRIPTION: 
LAST-MODIFIED:20250928T205623Z
LOCATION:Vieboulevard 21
SEQUENCE:0
STATUS:CONFIRMED
SUMMARY:Training
TRANSP:OPAQUE
END:VEVENT
BEGIN:VEVENT
DTSTART:20260202T190000Z
DTEND:20260202T203000Z
DTSTAMP:20260420T110348Z
UID:c8o62dj6c9j38b9i6ssjcb9k61gjib9o6cr66b9kc5gjipho6gpm6dpmcc@google.com
CREATED:20250822T151755Z
DESCRIPTION: 
LAST-MODIFIED:20250928T205623Z
LOCATION:Vieboulevard 21 Kerkrade
SEQUENCE:0
STATUS:CONFIRMED
SUMMARY:Training
TRANSP:OPAQUE
END:VEVENT
BEGIN:VEVENT
DTSTART:20260706T180000Z
DTEND:20260706T193000Z
DTSTAMP:20260420T110348Z
UID:c9ij6o9g6oo30b9i6ks36b9k6kpm6b9p74q66bb3cpij2or46dh6cc9ocg@google.com
CREATED:20250822T151803Z
DESCRIPTION: 
LAST-MODIFIED:20250928T205623Z
LOCATION:Vieboulevard 21 Kerkrade
SEQUENCE:0
STATUS:CONFIRMED
SUMMARY:Training
TRANSP:OPAQUE
END:VEVENT
BEGIN:VEVENT
DTSTART:20260309T190000Z
DTEND:20260309T203000Z
DTSTAMP:20260420T110348Z
UID:ckqm6pj564sjibb56pi38b9kcgr38bb164rj4b9mclhm8o9n6ksmao9lck@google.com
CREATED:20250822T151801Z
DESCRIPTION: 
LAST-MODIFIED:20250928T205623Z
LOCATION:Vieboulevard 21 Kerkrade
SEQUENCE:0
STATUS:CONFIRMED
SUMMARY:Training
TRANSP:OPAQUE
END:VEVENT
BEGIN:VEVENT
DTSTART:20260119T190000Z
DTEND:20260119T203000Z
DTSTAMP:20260420T110348Z
UID:64rjadppchhjgbb260s3ab9kc8rjgbb26srj2bb66osj8d9g6hhj6e366g@google.com
CREATED:20250822T151755Z
DESCRIPTION: 
LAST-MODIFIED:20250928T205623Z
LOCATION:Vieboulevard 21 Kerkrade
SEQUENCE:0
STATUS:CONFIRMED
SUMMARY:Training
TRANSP:OPAQUE
END:VEVENT
BEGIN:VEVENT
DTSTART:20250901T180000Z
DTEND:20250901T193000Z
DTSTAMP:20260420T110348Z
UID:68o62p9m6gqj8b9m75h3ib9k74qj0b9p6gq32b9k74s62p36c8q66e9o6c@google.com
CREATED:20250822T151744Z
LAST-MODIFIED:20250928T205623Z
LOCATION:Vieboulevard 21
SEQUENCE:0
STATUS:CONFIRMED
SUMMARY:Training
TRANSP:OPAQUE
END:VEVENT
BEGIN:VEVENT
DTSTART:20260413T180000Z
DTEND:20260413T193000Z
DTSTAMP:20260420T110348Z
UID:c9ij2p9k6op30bb56cp6cb9k69gm4bb2cdgj0b9i69i62opn71i3icpi68@google.com
CREATED:20250822T151749Z
DESCRIPTION: 
LAST-MODIFIED:20250928T205623Z
LOCATION:Vieboulevard 21 Kerkrade
SEQUENCE:0
STATUS:CONFIRMED
SUMMARY:Training
TRANSP:OPAQUE
END:VEVENT
BEGIN:VEVENT
DTSTART:20260608T180000Z
DTEND:20260608T193000Z
DTSTAMP:20260420T110348Z
UID:cgo68opp70rj6b9n74om8b9k6sqjib9o6cr38bb46oqj6phg6ko3cdpl68@google.com
CREATED:20250822T151800Z
DESCRIPTION: 
LAST-MODIFIED:20250928T205623Z
LOCATION:Vieboulevard 21 Kerkrade
SEQUENCE:0
STATUS:CONFIRMED
SUMMARY:Training
TRANSP:OPAQUE
END:VEVENT
BEGIN:VEVENT
DTSTART:20250915T180000Z
DTEND:20250915T193000Z
DTSTAMP:20260420T110348Z
UID:6ks3edj56dhm6b9m74qjgb9kcor36b9p74r66b9mcksm6dhi6cp3ephgcg@google.com
CREATED:20250822T151752Z
DESCRIPTION: 
LAST-MODIFIED:20250928T205623Z
LOCATION:Vieboulevard 21
SEQUENCE:0
STATUS:CONFIRMED
SUMMARY:Training
TRANSP:OPAQUE
END:VEVENT
BEGIN:VEVENT
DTSTART:20250922T180000Z
DTEND:20250922T193000Z
DTSTAMP:20260420T110348Z
UID:chij0ohg71hj4b9pclhmcb9k6kr6ab9oc4pjeb9m61gjaphncgrj8dpn68@google.com
CREATED:20250822T151750Z
DESCRIPTION: 
LAST-MODIFIED:20250928T205623Z
LOCATION:Vieboulevard 21
SEQUENCE:0
STATUS:CONFIRMED
SUMMARY:Training
TRANSP:OPAQUE
END:VEVENT
BEGIN:VEVENT
DTSTART:20251117T190000Z
DTEND:20251117T203000Z
DTSTAMP:20260420T110348Z
UID:71ijgp1h6kr32bb368pj4b9kc5gmcb9o69hjgb9o6th38db370p3cc1j74@google.com
CREATED:20250822T151748Z
DESCRIPTION: 
LAST-MODIFIED:20250928T205623Z
LOCATION:Vieboulevard 21
SEQUENCE:0
STATUS:CONFIRMED
SUMMARY:Training
TRANSP:OPAQUE
END:VEVENT
BEGIN:VEVENT
DTSTART:20251020T180000Z
DTEND:20251020T193000Z
DTSTAMP:20260420T110348Z
UID:c8q64opk6lhmabb574q34b9kc4rjebb2c4o3cb9i6sr38e9h69gj4c1gck@google.com
CREATED:20250822T151750Z
DESCRIPTION: 
LAST-MODIFIED:20250928T205623Z
LOCATION:Vieboulevard 21
SEQUENCE:0
STATUS:CONFIRMED
SUMMARY:Training
TRANSP:OPAQUE
END:VEVENT
BEGIN:VEVENT
DTSTART:20251201T190000Z
DTEND:20251201T203000Z
DTSTAMP:20260420T110348Z
UID:6lgj4p3164r3cb9gc9hj8b9kckoj2bb1ccqj0b9pclj30p9lc4s3ie9i6g@google.com
CREATED:20250822T151751Z
DESCRIPTION: 
LAST-MODIFIED:20250928T205623Z
LOCATION:Vieboulevard 21 Kerkrade
SEQUENCE:0
STATUS:CONFIRMED
SUMMARY:Training
TRANSP:OPAQUE
END:VEVENT
BEGIN:VEVENT
DTSTART:20251215T190000Z
DTEND:20251215T203000Z
DTSTAMP:20260420T110348Z
UID:6tgj2cr4ckqm8b9g6lgm2b9k60rj2b9o6lhjib9i74oj6chn68s6apho6k@google.com
CREATED:20250822T151801Z
DESCRIPTION: 
LAST-MODIFIED:20250928T205623Z
LOCATION:Vieboulevard 21 Kerkrade
SEQUENCE:0
STATUS:CONFIRMED
SUMMARY:Training
TRANSP:OPAQUE
END:VEVENT
BEGIN:VEVENT
DTSTART:20251006T180000Z
DTEND:20251006T193000Z
DTSTAMP:20260420T110348Z
UID:6spm4or6c5hj8b9l6go34b9k6lhj8bb1c9i3eb9jcoom6e1p6dijid1hco@google.com
CREATED:20250822T151753Z
DESCRIPTION: 
LAST-MODIFIED:20250928T205623Z
LOCATION:Vieboulevard 21
SEQUENCE:0
STATUS:CONFIRMED
SUMMARY:Training
TRANSP:OPAQUE
END:VEVENT
BEGIN:VEVENT
DTSTART:20260629T180000Z
DTEND:20260629T193000Z
DTSTAMP:20260420T110348Z
UID:6di62d1iclhm8b9l6or3ab9k6koj8bb170s3ab9l6dhjicj468qj4or1cg@google.com
CREATED:20250822T151759Z
DESCRIPTION: 
LAST-MODIFIED:20250928T205623Z
LOCATION:Vieboulevard 21 Kerkrade
SEQUENCE:0
STATUS:CONFIRMED
SUMMARY:Training
TRANSP:OPAQUE
END:VEVENT
BEGIN:VEVENT
DTSTART:20260622T180000Z
DTEND:20260622T193000Z
DTSTAMP:20260420T110348Z
UID:6tgjge1k6li66b9lccs32b9k70om4b9pcpi68bb16ks38ob16op30p3574@google.com
CREATED:20250822T151754Z
DESCRIPTION: 
LAST-MODIFIED:20250928T205623Z
LOCATION:Vieboulevard 21 Kerkrade
SEQUENCE:0
STATUS:CONFIRMED
SUMMARY:Training
TRANSP:OPAQUE
END:VEVENT
BEGIN:VEVENT
DTSTART:20260615T180000Z
DTEND:20260615T193000Z
DTSTAMP:20260420T110348Z
UID:cooj2db660sj8b9n71gm4b9kc4smcb9o60rj0bb66gs3ceb1cphm4cpm60@google.com
CREATED:20250822T151751Z
DESCRIPTION: 
LAST-MODIFIED:20250928T205623Z
LOCATION:Vieboulevard 21 Kerkrade
SEQUENCE:0
STATUS:CONFIRMED
SUMMARY:Training
TRANSP:OPAQUE
END:VEVENT
BEGIN:VEVENT
DTSTART:20250929T180000Z
DTEND:20250929T193000Z
DTSTAMP:20260420T110348Z
UID:c8q3adb575hj8bb36tgj4b9kcdh32b9pccpjebb36co30p1m71h68phh60@google.com
CREATED:20250822T151742Z
DESCRIPTION: 
LAST-MODIFIED:20250928T205623Z
LOCATION:Vieboulevard 21
SEQUENCE:0
STATUS:CONFIRMED
SUMMARY:Training
TRANSP:OPAQUE
END:VEVENT
BEGIN:VEVENT
DTSTART:20260126T190000Z
DTEND:20260126T203000Z
DTSTAMP:20260420T110348Z
UID:70o6cd1h6dj64b9gc9j34b9kckpmcbb1cpgj4bb5cgp66p9ic5j36pj6cg@google.com
CREATED:20250822T151801Z
DESCRIPTION: 
LAST-MODIFIED:20250928T205623Z
LOCATION:Vieboulevard 21 Kerkrade
SEQUENCE:0
STATUS:CONFIRMED
SUMMARY:Training
TRANSP:OPAQUE
END:VEVENT

END:VCALENDAR