BEGIN:VCALENDAR
VERSION:2.0
PRODID:DPCALENDAR
CALSCALE:GREGORIAN
BEGIN:VTIMEZONE
TZID:Europe/Amsterdam
BEGIN:STANDARD
DTSTART:20251026T010000
TZOFFSETFROM:+0200
TZOFFSETTO:+0100
TZNAME:CET
END:STANDARD
BEGIN:STANDARD
DTSTART:20261025T010000
TZOFFSETFROM:+0200
TZOFFSETTO:+0100
TZNAME:CET
END:STANDARD
BEGIN:DAYLIGHT
DTSTART:20260329T010000
TZOFFSETFROM:+0100
TZOFFSETTO:+0200
TZNAME:CEST
END:DAYLIGHT
END:VTIMEZONE
X-WR-TIMEZONE:Europe/Amsterdam
BEGIN:VEVENT
DTSTART;TZID=Europe/Amsterdam:20230702T133000
DTEND;TZID=Europe/Amsterdam:20230702T180000
UID:0E2B1D3E-4EDD-4AEE-8FC8-DD3747F91CEE
SUMMARY:Bezet
CREATED:20230408T110707Z
DTSTAMP:20230408T110707Z
URL:https://poolduikers.nl/activiteiten/inschrijven-activiteiten/duikongevalssimulatie-1
LAST-MODIFIED:20230613T171619Z
SEQUENCE:5724552
X-ACCESS:1
X-HITS:42
X-COLOR:f5a505
X-SHOW-END-TIME:1
X-PUBLISH-UP:2023-05-24 05:01:52
END:VEVENT
BEGIN:VEVENT
DTSTART;TZID=Europe/Amsterdam:20230924T133000
DTEND;TZID=Europe/Amsterdam:20230924T180000
UID:CFE212A9-A870-49EB-80A5-8003B608F074
SUMMARY:Bezet
CREATED:20230408T110846Z
DTSTAMP:20230408T110846Z
URL:https://poolduikers.nl/activiteiten/inschrijven-activiteiten/duikongevalssimulatie-2
LAST-MODIFIED:20230524T044942Z
SEQUENCE:3951656
X-ACCESS:1
X-HITS:50
X-COLOR:f5a505
X-SHOW-END-TIME:1
END:VEVENT
END:VCALENDAR