BEGIN:VCALENDAR
VERSION:2.0
PRODID:DPCALENDAR
CALSCALE:GREGORIAN
BEGIN:VTIMEZONE
TZID:Europe/Amsterdam
BEGIN:STANDARD
DTSTART:20251026T010000
TZOFFSETFROM:+0200
TZOFFSETTO:+0100
TZNAME:CET
END:STANDARD
BEGIN:STANDARD
DTSTART:20261025T010000
TZOFFSETFROM:+0200
TZOFFSETTO:+0100
TZNAME:CET
END:STANDARD
BEGIN:DAYLIGHT
DTSTART:20260329T010000
TZOFFSETFROM:+0100
TZOFFSETTO:+0200
TZNAME:CEST
END:DAYLIGHT
END:VTIMEZONE
X-WR-TIMEZONE:Europe/Amsterdam
BEGIN:VEVENT
DTSTART;TZID=Europe/Amsterdam:20230102T200000
DTEND;TZID=Europe/Amsterdam:20230102T210000
UID:64F09914-357C-4B12-B584-D2400439C420
SUMMARY:Nieuwjaarsborrel senioren
CREATED:20221220T133019Z
DTSTAMP:20221220T133019Z
URL:https://poolduikers.nl/activiteiten/inschrijven-activiteiten/niewjaarsborrel-senioren
LAST-MODIFIED:20221224T093029Z
SEQUENCE:331210
LOCATION:
GEO:0.00000000;0.00000000
X-LOCATION-DISPLAYNAME:Wijngracht 61, 6461 ALKerkrade,Nederland
X-ACCESS:1
X-HITS:59
X-COLOR:f5a505
X-SHOW-END-TIME:1
END:VEVENT
BEGIN:VEVENT
DTSTART;TZID=Europe/Amsterdam:20230106T190000
DTEND;TZID=Europe/Amsterdam:20230106T200000
UID:77BC8257-8F08-49C8-8376-EE2143E7504D
SUMMARY:nieuwjaarsborrel Jeugd
CREATED:20221220T133421Z
DTSTAMP:20221220T133421Z
URL:https://poolduikers.nl/activiteiten/inschrijven-activiteiten/nieuwjaarsborrel-jeugd
LAST-MODIFIED:20221224T093041Z
SEQUENCE:330980
LOCATION:
GEO:0.00000000;0.00000000
X-LOCATION-DISPLAYNAME:Wijngracht 61, 6461 ALKerkrade,Nederland
X-ACCESS:1
X-HITS:76
X-COLOR:f5a505
X-SHOW-END-TIME:1
END:VEVENT
BEGIN:VEVENT
DTSTART;TZID=Europe/Amsterdam:20230304T160000
DTEND;TZID=Europe/Amsterdam:20230304T183000
UID:1A949B98-7CE0-4B34-8450-50826D58EFB9
SUMMARY:Lasergamen
CREATED:20230118T070956Z
DTSTAMP:20230118T070956Z
URL:https://forms.office.com/Pages/ResponsePage.aspx?id=U57fX70QdkeQcdKQZ-EWzfRlA5lTTOpFgrXSj9VpeFpUNjYxMEY5OVVPTjVPMDdUVVpPWTE5VFFLVS4u
DESCRIPTION:Beste Buddy’s.Op zaterdag 4 maart organiseert het OTEAM een nieuwe activiteit: lasergamen!Deze Laser Spy Party is inclusief frietjes en een snack naar keuze.\NDe kosten voor de leden zijn 10€ en voor niet leden 20€De battle vind plaats in Kerkrade op de Roda J.C. Ring 2H, 6466 NH Kerkrade, vervoer op eigen gelegenheid\NVerdere informatie over de tijden ect volgt nog.Aanmelden kan tot 10 februari.Mochten er vragen zijn neem dan even contact op het met OTEAMWe hopen jullie allemaal te zien!
X-ALT-DESC;FMTTYPE=text/html:<p>Beste Buddy’s.<br />Op zaterdag 4 maart organiseert het OTEAM een nieuwe activiteit: lasergamen!<br />Deze Laser Spy Party is inclusief frietjes en een snack naar keuze.</p><p>De kosten voor de leden zijn 10€ en voor niet leden 20€<br />De battle vind plaats in Kerkrade op de Roda J.C. Ring 2H, 6466 NH Kerkrade, vervoer op eigen gelegenheid</p><p>Verdere informatie over de tijden ect volgt nog.<br />Aanmelden kan tot 10 februari.<br />Mochten er vragen zijn neem dan even contact op het met OTEAM<br />We hopen jullie allemaal&nbsp;te&nbsp;zien!</p>
LAST-MODIFIED:20230130T172225Z
SEQUENCE:1073549
LOCATION:Roda J.C. Ring  2H\, 6466 NH  Kerkrade
GEO:50.85767000;6.00271000
X-LOCATION-DISPLAYNAME:Laser Gamen (2)
X-ACCESS:1
X-HITS:64
X-COLOR:f5a505
X-SHOW-END-TIME:1
END:VEVENT
BEGIN:VEVENT
DTSTART;TZID=Europe/Amsterdam:20230422T130000
DTEND;TZID=Europe/Amsterdam:20230422T160000
UID:C23035FA-B932-44BC-AB8C-ADD7E15B26B9
SUMMARY:Speurtocht (Beleef Kerkrade Verradersspel editie)
CREATED:20230305T090621Z
DTSTAMP:20230305T090621Z
URL:https://poolduikers.nl/activiteiten/inschrijven-activiteiten/test-2
DESCRIPTION:Beste buddies,\NOp zaterdag 22 april staat er een speurtocht op de planning. \NWe willen iedereen uitnodigen om samen met ons het *Beleef Kerkrade Verradersspel* te spelen.\NHet spel brengt je langs de leukste plekjes van Kerkrade, waaronder het iconische kasteel Erenstein, waar het tv-programma *De Verraders* is opgenomen.\NIn groepen van 5 tot 7 personen voer je missies uit en maak je kennis met alles wat typisch Kerkrade is: van dialect tot blaasmuziek, van kunst tot mijnbouw, je komt het allemaal tegen! Alleen de teamcaptain heeft een smartphone met dataverbinding nodig.  Afhankelijk van het aantal tussenstops en het looptempo, ben je zo’n twee uur onderweg. De route begint bij kasteel Erenstein en eindigt in het centrum van Kerkrade op de Markt.\NLeden mogen gratis deelnemen.\NDe kosten voor niet leden zijn €5\NBen je enthousiast geworden en wil je meedoen? Meld je dan snel aan!
X-ALT-DESC;FMTTYPE=text/html:<p>Beste buddies,</p><p>Op zaterdag 22 april staat er een speurtocht op de planning.&nbsp;</p><p>We willen iedereen uitnodigen om samen met ons het *<em>Beleef Kerkrade Verradersspel</em>* te spelen.</p><p>Het spel brengt je langs de leukste plekjes van Kerkrade, waaronder het iconische kasteel Erenstein, waar het tv-programma *<em>De Verraders</em>* is opgenomen.</p><p>In groepen van 5 tot 7 personen voer je missies uit en maak je kennis met alles wat typisch Kerkrade is: van dialect tot blaasmuziek, van kunst tot mijnbouw, je komt het allemaal tegen! Alleen de teamcaptain heeft een smartphone met dataverbinding nodig.&nbsp; Afhankelijk van het aantal tussenstops en het looptempo, ben je zo’n twee uur onderweg. De route begint bij kasteel Erenstein en eindigt in het centrum van Kerkrade op de Markt.</p><p>Leden mogen gratis deelnemen.</p><p>De kosten voor niet leden zijn €5</p><p>Ben je enthousiast geworden en wil je meedoen? Meld je dan snel aan!</p>
LAST-MODIFIED:20230325T083435Z
SEQUENCE:1726094
LOCATION:Oud-Erensteinerweg 6\, 6468PB Kerkrade\, Limburg\, Nederland
GEO:47.00000000;4.00000000
X-LOCATION-DISPLAYNAME:Kasteel Erenstein (Oud-Erensteinerweg 6, 6468PB Kerkrade, Nederland)
X-ACCESS:1
X-HITS:92
X-COLOR:f5a505
X-SHOW-END-TIME:0
END:VEVENT
BEGIN:VEVENT
DTSTART;TZID=Europe/Amsterdam:20230610T120000
DTEND;TZID=Europe/Amsterdam:20230610T160000
UID:CF55238A-C52F-4CB0-90CF-A05D63D16B32
SUMMARY:Zandeiland 4, Vinkeveens Plassen
CREATED:20230118T071449Z
DTSTAMP:20230118T071449Z
URL:https://forms.office.com/e/xWT4XpdfBw
DESCRIPTION:\NBeste Buddy`s,\N\N\N\N\N\NOp zaterdag 10 juni 2023 staat er een duik op de planning in Montemare.\N\N\NAangezien meerdere leden hebben aangegeven liever een buitenduik te plannen in dit seizoen, hebben wij besloten naar een buiten locatie uit te wijken.\N\N\NWe hebben gekozen voor een clubduik in de Vinkeveense plassen (Zandeiland 4)\N\N\N\N\N\NDit is ongeveer 2 uur rijden vanaf Kerkrade.\N\N\NWe zamelen 12 uur op Zandeiland 4.\N\N\N\N\N\NEigen duikuitrusting is verplicht.\N\N\NDeelname voor leden van de vereniging is gratis, niet leden betalen 7,50 voor de duikpenning.\N\N\NHet is mogelijk om een Bootduik te maken, maar dit is afhankelijk van het aantal inschrijvingen. Hier komen wij nog op terug.\N\N\N\N\N\NMocht je geen vervoer hebben laat het even weten via span contenteditable="true" aria-label="Druk op Ctrl + spatiebalk om een e-mailbericht te verzenden naar mailto:oteam@poolduikers.nl dan kijken wij wat mogelijk is.\N \NAanmelden kan tot 27 mei.\N\N\NAanmelden kan via: https://forms.office.com/e/xWT4XpdfBw\N\N\N\N\N\N\N\N\NWe zullen de duik in Montemare dit najaar plannen op 9 december verdere informatie volgt nog.\N\N\N\N\N\NSander, Dave en Kiki\N
X-ALT-DESC;FMTTYPE=text/html:<div class="" data-block="true" data-editor="7jl9q" data-offset-key="3357sf3c-0-0"><div class="public-DraftStyleDefault-block public-DraftStyleDefault-ltr" data-offset-key="3357sf3c-0-0">Beste Buddy`s,</div></div><div class="" data-block="true" data-editor="7jl9q" data-offset-key="da6nle24-0-0"><div class="public-DraftStyleDefault-block public-DraftStyleDefault-ltr" data-offset-key="da6nle24-0-0"><span data-offset-key="da6nle24-0-0"></span></div></div><div class="" data-block="true" data-editor="7jl9q" data-offset-key="vt4pf77c-0-0"><div class="public-DraftStyleDefault-block public-DraftStyleDefault-ltr" data-offset-key="vt4pf77c-0-0"><span data-offset-key="vt4pf77c-0-0"><span data-text="true">Op zaterdag 10 juni 2023 staat er een duik op de planning in Montemare.</span></span></div></div><div class="" data-block="true" data-editor="7jl9q" data-offset-key="6kljh864-0-0"><div class="public-DraftStyleDefault-block public-DraftStyleDefault-ltr" data-offset-key="6kljh864-0-0"><span data-offset-key="6kljh864-0-0"><span data-text="true">Aangezien meerdere leden hebben aangegeven liever een buitenduik te plannen in dit seizoen, hebben wij besloten naar een buiten locatie uit te wijken.</span></span></div></div><div class="" data-block="true" data-editor="7jl9q" data-offset-key="dr6g4ebf-0-0"><div class="public-DraftStyleDefault-block public-DraftStyleDefault-ltr" data-offset-key="dr6g4ebf-0-0"><span data-offset-key="dr6g4ebf-0-0"><span data-text="true">We hebben gekozen voor een clubduik in de </span></span><span data-offset-key="dr6g4ebf-0-1"><span data-text="true">Vinkeveense plassen (Zandeiland 4)</span></span></div></div><div class="" data-block="true" data-editor="7jl9q" data-offset-key="8e2t4349-0-0"><div class="public-DraftStyleDefault-block public-DraftStyleDefault-ltr" data-offset-key="8e2t4349-0-0"><span data-offset-key="8e2t4349-0-0"></span></div></div><div class="" data-block="true" data-editor="7jl9q" data-offset-key="eeg1q281-0-0"><div class="public-DraftStyleDefault-block public-DraftStyleDefault-ltr" data-offset-key="eeg1q281-0-0"><span data-offset-key="eeg1q281-0-0"><span data-text="true">Dit is ongeveer 2 uur rijden vanaf Kerkrade.</span></span></div></div><div class="" data-block="true" data-editor="7jl9q" data-offset-key="f3o7319d-0-0"><div class="public-DraftStyleDefault-block public-DraftStyleDefault-ltr" data-offset-key="f3o7319d-0-0"><span data-offset-key="f3o7319d-0-0"><span data-text="true">We zamelen 12 uur op Zandeiland 4.</span></span></div></div><div class="" data-block="true" data-editor="7jl9q" data-offset-key="denod677-0-0"><div class="public-DraftStyleDefault-block public-DraftStyleDefault-ltr" data-offset-key="denod677-0-0"><span data-offset-key="denod677-0-0"></span></div></div><div class="" data-block="true" data-editor="7jl9q" data-offset-key="b7jn70fd-0-0"><div class="public-DraftStyleDefault-block public-DraftStyleDefault-ltr" data-offset-key="b7jn70fd-0-0"><span data-offset-key="b7jn70fd-0-0"><span data-text="true">Eigen duikuitrusting is verplicht.</span></span></div></div><div class="" data-block="true" data-editor="7jl9q" data-offset-key="75a2v8d3-0-0"><div class="public-DraftStyleDefault-block public-DraftStyleDefault-ltr" data-offset-key="75a2v8d3-0-0"><span data-offset-key="75a2v8d3-0-0"><span data-text="true">Deelname voor leden van de vereniging is gratis, niet leden betalen 7,50 voor de duikpenning.</span></span></div></div><div class="" data-block="true" data-editor="7jl9q" data-offset-key="cm88j0f3-0-0"><div class="public-DraftStyleDefault-block public-DraftStyleDefault-ltr" data-offset-key="cm88j0f3-0-0"><span data-offset-key="cm88j0f3-0-0"><span data-text="true">Het is mogelijk om een Bootduik te maken, maar dit is afhankelijk van het aantal inschrijvingen. Hier komen wij nog op terug.</span></span></div></div><div class="" data-block="true" data-editor="7jl9q" data-offset-key="4ldake3a-0-0"><div class="public-DraftStyleDefault-block public-DraftStyleDefault-ltr" data-offset-key="4ldake3a-0-0"><span data-offset-key="4ldake3a-0-0"></span></div></div><div class="" data-block="true" data-editor="7jl9q" data-offset-key="7grvdfb6-0-0"><div class="public-DraftStyleDefault-block public-DraftStyleDefault-ltr" data-offset-key="7grvdfb6-0-0"><span data-offset-key="7grvdfb6-0-0"><span data-text="true">Mocht je geen vervoer hebben laat het even weten via </span></span><span contenteditable="true" aria-label="Druk op Ctrl + spatiebalk om een e-mailbericht te verzenden naar mailto:&lt;a href="><a href="mailto:oteam@poolduikers.nl">oteam@poolduikers.nl</a>&nbsp;d</span>an kijken wij wat mogelijk is.</div><div>&nbsp;</div><div>Aanmelden kan tot 27 mei.</div></div><div class="" data-block="true" data-editor="7jl9q" data-offset-key="6p7kv015-0-0"><div class="public-DraftStyleDefault-block public-DraftStyleDefault-ltr" data-offset-key="6p7kv015-0-0"><span data-offset-key="6p7kv015-0-0"><span data-text="true">Aanmelden kan via:&nbsp;<a href="https://forms.office.com/e/xWT4XpdfBw" target="_blank" rel="noopener noreferrer" id="LPlnk568970" data-auth="NotApplicable" data-safelink="true" data-linkindex="1">https://forms.office.com/e/xWT4XpdfBw</a></span></span></div></div><div class="" data-block="true" data-editor="7jl9q" data-offset-key="dv9f2c6f-0-0"><div class="public-DraftStyleDefault-block public-DraftStyleDefault-ltr" data-offset-key="dv9f2c6f-0-0"><span data-offset-key="dv9f2c6f-0-0"></span></div></div><div class="" data-block="true" data-editor="7jl9q" data-offset-key="9bc32656-0-0"><div class="public-DraftStyleDefault-block public-DraftStyleDefault-ltr" data-offset-key="9bc32656-0-0"><span data-offset-key="9bc32656-0-0"></span></div></div><div class="" data-block="true" data-editor="7jl9q" data-offset-key="45vt3592-0-0"><div class="public-DraftStyleDefault-block public-DraftStyleDefault-ltr" data-offset-key="45vt3592-0-0"><span data-offset-key="45vt3592-0-0"><span data-text="true">We zullen de duik in Montemare dit najaar plannen op 9 december verdere informatie volgt nog.</span></span></div></div><div class="" data-block="true" data-editor="7jl9q" data-offset-key="7uv2c4d1-0-0"><div class="public-DraftStyleDefault-block public-DraftStyleDefault-ltr" data-offset-key="7uv2c4d1-0-0"><span data-offset-key="7uv2c4d1-0-0"></span></div></div><div class="" data-block="true" data-editor="7jl9q" data-offset-key="2megla3e-0-0"><div class="public-DraftStyleDefault-block public-DraftStyleDefault-ltr" data-offset-key="2megla3e-0-0"><span data-offset-key="2megla3e-0-0"><span data-text="true">Sander, Dave en Kiki</span></span></div></div>
LAST-MODIFIED:20230308T104600Z
SEQUENCE:4246271
LOCATION:Baambrugse Zuwe 190\, 3645AM Vinkeveen\, Utrecht\, Nederland
GEO:47.00000000;4.00000000
X-LOCATION-DISPLAYNAME:Zandeiland 4 (Baambrugse Zuwe 190, 3645 AM Vinkeveen)
X-ACCESS:1
X-HITS:37
X-COLOR:f5a505
X-SHOW-END-TIME:1
END:VEVENT
BEGIN:VEVENT
DTSTART;VALUE=DATE:20230901
DTEND;VALUE=DATE:20230904
UID:F2C4D824-F1ED-4669-8D63-31F33D274F8B
SUMMARY:Zeeland Weekend
CREATED:20230118T071647Z
DTSTAMP:20230118T071647Z
URL:https://forms.office.com/e/y6hPmcKh1U
DESCRIPTION:Beste Buddy`s,\NHet O-Team organiseert dit jaar opnieuw een Zeelandweekend op 1,2 en 3 september!\NDit weekend is voor leden en diens partner/familieleden.\NWe verblijven op Camping NoorderNieuwland in Brouwershaven en willen vanuit daar watergerelateerde activiteiten ondernemen en gezamenlijk eten.\NDit geldt voor zowel volwassen duikers als de jeugdleden.\NVoor de jeugdleden geldt wel de toevoeging dat zij vergezeld dienen te worden door minimaal een ouder/verzorger.\NAfhankelijk van de soort gebrevetteerde duikers die aanwezig zijn, worden duiken in het Grevelingenmeer, Oosterschelde (getijdeduik) en een nachtduik (vrijdagavond) georganiseerd.\NHet is van belang dat je je eigen uitrusting meeneemt. Indien je geen/deels een eigen uitrusting hebt maar je wel graag mee zou willen gaan en ook een duikje wilt maken, meld je dan even bij materiaalbeheerders Jeffrey/Kiki om te kijken wat er mogelijk is.\NEr worden geen duiken georganiseerd voor niet gebrevetteerde leden maar je bent van harte welkom om met de duikers mee te gaan naar de waterkant, of zelf een invulling te geven aan de dagen.\NDe planning zal er ongeveer als volgt uitzien:\NVrijdagavond: aankomst vanaf 14 uur met een welkomstdrankje en wat snacks evt de nachtduik\NZaterdag: gezamenlijk ontbijt in de ochtend en gezamenlijke BBQ in de avond\NZondag: gezamenlijk ontbijt in de ochtend vervolgens vertrek richting huis rond 11 uur\NDe boodschappen zullen van te voren gedaan worden maar taken zoals de tafel dekken, spek en ei maken en opruimen zullen wij onderling verdelen.\NZoals eerder genoemd zullen wij vertoeven op Camping Noorder Nieuwland Brouwershaven in Zeeland\NOp deze camping zijn meerdere accommodaties beschikbaar die gehuurd kunnen worden. Ook is het mogelijk een caravan of campingplek te boeken. Het is de bedoeling dat je zelf de overnachtingen regelt. Geef hierbij wel even aan dat je van de Poolduikers bent, dan kunnen wij plekken bij elkaar krijgen. Zie www.campingnoordernieuwland.nl\N \N \NDe kosten voor leden: 25 euro en voor niet leden: 35 euro\NDit is voor 2x ontbijt, 1x BBQ, snacks en drinken.\N \NAanmelden kan tot 1 augustus door onderstaande forms in te vullen.\Nhttps://forms.office.com/e/y6hPmcKh1U\NDaarna volgt een mail met verder informatie mbt betalen.\NMocht je vragen hebben neem dan even contact met het O-Team via oteam@poolduikers.nl\NWe zouden het heel leuk vinden als jullie deelnemen aan het Zeelandweekend\N \NSander, Dave en Kiki\NO-Team
X-ALT-DESC;FMTTYPE=text/html:<p>Beste Buddy`s,</p><div>Het O-Team organiseert dit jaar opnieuw een Zeelandweekend op 1,2 en 3 september!</div><div>Dit weekend is voor leden en diens partner/familieleden.</div><div>We verblijven op Camping NoorderNieuwland in Brouwershaven en willen vanuit daar watergerelateerde activiteiten ondernemen en gezamenlijk eten.</div><div>Dit geldt voor zowel volwassen duikers als de jeugdleden.</div><div>Voor de jeugdleden geldt wel de toevoeging dat zij vergezeld dienen te worden door minimaal een ouder/verzorger.</div><div>Afhankelijk van de soort gebrevetteerde duikers die aanwezig zijn, worden duiken in het Grevelingenmeer, Oosterschelde (getijdeduik) en een nachtduik (vrijdagavond) georganiseerd.</div><div>Het is van belang dat je je eigen uitrusting meeneemt. Indien je geen/deels een eigen uitrusting hebt maar je wel graag mee zou willen gaan en ook een duikje wilt maken, meld je dan even bij materiaalbeheerders Jeffrey/Kiki om te kijken wat er mogelijk is.</div><div>Er worden geen duiken georganiseerd voor niet gebrevetteerde leden maar je bent van harte welkom om met de duikers mee te gaan naar de waterkant, of zelf een invulling te geven aan de dagen.</div><div>De planning zal er ongeveer als volgt uitzien:</div><div>Vrijdagavond: aankomst vanaf 14 uur met een welkomstdrankje en wat snacks evt de nachtduik</div><div>Zaterdag: gezamenlijk ontbijt in de ochtend en gezamenlijke BBQ in de avond</div><div>Zondag: gezamenlijk ontbijt in de ochtend vervolgens vertrek richting huis rond 11 uur</div><div>De boodschappen zullen van te voren gedaan worden maar taken zoals de tafel dekken, spek en ei maken en opruimen zullen wij onderling verdelen.</div><div>Zoals eerder genoemd zullen wij vertoeven op Camping Noorder Nieuwland Brouwershaven in Zeeland</div><div>Op deze camping zijn meerdere accommodaties beschikbaar die gehuurd kunnen worden. Ook is het mogelijk een caravan of campingplek te boeken. Het is de bedoeling dat je zelf de overnachtingen regelt. Geef hierbij wel even aan dat je van de Poolduikers bent, dan kunnen wij plekken bij elkaar krijgen. Zie <a href="http://www.campingnoordernieuwland.nl/" target="_blank" rel="noopener">www.campingnoordernieuwland.nl</a></div><div>&nbsp;</div><div>&nbsp;</div><div>De kosten voor leden: 25 euro en voor niet leden: 35 euro</div><div>Dit is voor 2x ontbijt, 1x BBQ, snacks en drinken.</div><div>&nbsp;</div><div>Aanmelden kan tot 1 augustus door onderstaande forms in te vullen.</div><div><a href="https://forms.office.com/e/y6hPmcKh1U" target="_blank" rel="noopener"></a><a href="https://forms.office.com/e/y6hPmcKh1U">https://forms.office.com/e/y6hPmcKh1U</a></div><div>Daarna volgt een mail met verder informatie mbt betalen.</div><div>Mocht je vragen hebben neem dan even contact met het O-Team via <a href="mailto:oteam@poolduikers.nl" target="_blank" class="mailto-link"></a><a href="mailto:oteam@poolduikers.nl">oteam@poolduikers.nl</a></div><div>We zouden het heel leuk vinden als jullie deelnemen aan het Zeelandweekend</div><div>&nbsp;</div><div>Sander, Dave en Kiki</div><div>O-Team</div>
LAST-MODIFIED:20230308T104652Z
SEQUENCE:4246205
LOCATION:Schouwsedijk 1\, 4318TM Brouwershaven\, Zeeland\, Nederland
GEO:0.00000000;0.00000000
X-LOCATION-DISPLAYNAME:Camping Noordernieuwland (Schouwsedijk 1, 4318 TM Brouwershaven)
X-ACCESS:1
X-HITS:57
X-COLOR:f5a505
X-SHOW-END-TIME:1
END:VEVENT
BEGIN:VEVENT
DTSTART;VALUE=DATE:20230910
DTEND;VALUE=DATE:20230911
UID:DC06E7DC-44C4-4371-BF91-D150C0F46E18
SUMMARY:Jeugdduik
CREATED:20230118T071556Z
DTSTAMP:20230118T071556Z
URL:https://forms.office.com/e/FYt8s8xhep
DESCRIPTION:Op 10 september willen wij een jeugdduik organiseren voor de jeugd van onze vereniging.\NDit jaar gaan wij naar de Boschmolenplas in Panheel.De kosten om deel te nemen zijn 10 euro.We zullen rond 13 uur verzamelen bij de Boschmolenplas.Mocht je graag mee willen maar geen vervoer hebben laat het dan even weten.Aanmelden kan tot 1 september\NAanmelden kan via deze link: https://forms.office.com/e/FYt8s8xhepVerder informatie volgt nog.Hulp bij jeugdduikAls je wilt helpen bij de jeugdduik al gebrevetteerde duiker, verzoeken wij je contact op te nemen met het O-Team.Sander, Dave en KikiO-Team
X-ALT-DESC;FMTTYPE=text/html:<div>Op 10 september willen wij een jeugdduik organiseren voor de jeugd van onze vereniging.</div><p><br />Dit jaar gaan wij naar de Boschmolenplas in Panheel.<br /><br />De kosten om deel te nemen zijn 10 euro.<br /><br />We zullen rond 13 uur verzamelen bij de Boschmolenplas.<br /><br />Mocht je graag mee willen maar geen vervoer hebben laat het dan even weten.<br /><br />Aanmelden kan tot 1 september</p><p>Aanmelden kan via deze link:&nbsp;<a href="https://forms.office.com/e/FYt8s8xhep">https://forms.office.com/e/FYt8s8xhep</a><br /><br />Verder informatie volgt nog.<br /><br /><b>Hulp bij jeugdduik<br /><br />Als je wilt helpen bij de jeugdduik al gebrevetteerde duiker, verzoeken wij je contact op te nemen met het O-Team.<br /></b><br />Sander, Dave en Kiki<br /><br />O-Team</p>
LAST-MODIFIED:20230610T075949Z
SEQUENCE:12357833
LOCATION:Bosmolenweg  3\, 6097NG Heel\, Limburg\, Nederland
GEO:47.00000000;4.00000000
X-LOCATION-DISPLAYNAME:Duiklocatie Boschmolenplas (Bosmolenweg 3, 6097 NG Heel)
X-ACCESS:1
X-HITS:111
X-COLOR:f5a505
X-SHOW-END-TIME:1
END:VEVENT
BEGIN:VEVENT
DTSTART;VALUE=DATE:20231118
DTEND;VALUE=DATE:20231119
UID:657592A0-F927-43B3-BA0D-9634E163FDA1
SUMMARY:Todi
CREATED:20230118T071759Z
DTSTAMP:20230118T071759Z
URL:https://forms.office.com/e/gyDLtJiYNL
DESCRIPTION:Beste Buddy`s,\NOp zaterdag 18 november 2023 staat het duiken bij Todi op de planning.Graag aanmelden als je mee wilt. Informatie over tijdstippen en kosten krijgen jullie z.s.m.Aanmelden kan tot 4 november.Aanmelden via deze link: https://forms.office.com/e/gyDLtJiYNL\NMocht je vragen hebben neem dan even contact met het O-Team.oteam@poolduikers.nlWe zouden het heel leuk vinden als jullie deelnemen aan het duiken bij Todi.O-TeamSander, Dave en Kiki
X-ALT-DESC;FMTTYPE=text/html:<p>Beste Buddy`s,</p><p><br />Op zaterdag 18 november 2023 staat het duiken bij Todi op de planning.<br /><br />Graag aanmelden als je mee wilt. Informatie over tijdstippen en kosten krijgen jullie z.s.m.<br /><br />Aanmelden kan tot 4 november.<br />Aanmelden via deze link:&nbsp;<a href="https://forms.office.com/e/gyDLtJiYNL">https://forms.office.com/e/gyDLtJiYNL</a></p><p><br />Mocht je vragen hebben neem dan even contact met het O-Team.<br /><a href="mailto:oteam@poolduikers.nl">oteam@poolduikers.nl</a><br /><br />We zouden het heel leuk vinden als jullie deelnemen aan het duiken bij Todi.<br /><br />O-Team<br /><br />Sander, Dave en Kiki</p>
LAST-MODIFIED:20230308T122233Z
SEQUENCE:4251874
LOCATION:be-MINE 1\, 3582 Beringen\, België
GEO:47.00000000;4.00000000
X-LOCATION-DISPLAYNAME:Todi (be-MINE 1, 3582 Beringen, België)
X-ACCESS:1
X-HITS:97
X-COLOR:f5a505
X-SHOW-END-TIME:1
END:VEVENT
BEGIN:VEVENT
DTSTART;VALUE=DATE:20231209
DTEND;VALUE=DATE:20231210
UID:0CF54398-86D3-4AF6-8C9D-B203E21F5141
SUMMARY:Monte mare
CREATED:20230308T103724Z
DTSTAMP:20230308T103724Z
URL:https://forms.office.com/e/bk5zjvKmxq
DESCRIPTION:Beste Buddy`s,\NOp zaterdag 9 december 2023 staat het duiken bij Monte mare op de planning.Graag aanmelden als je mee wilt. Informatie over tijdstippen en kosten krijgen jullie z.s.m.Aanmelden kan tot 25 november.\NAanmelden via deze link: https://forms.office.com/e/bk5zjvKmxqMocht je vragen hebben neem dan even contact met het O-Team.oteam@poolduikers.nlWe zouden het heel leuk vinden als jullie deelnemen aan het duiken bij Monte mare.O-TeamSander, Dave en Kiki
X-ALT-DESC;FMTTYPE=text/html:<div>Beste Buddy`s,</div><p><br />Op zaterdag 9 december 2023 staat het duiken bij Monte mare op de planning.<br /><br />Graag aanmelden als je mee wilt. Informatie over tijdstippen en kosten krijgen jullie z.s.m.<br /><br />Aanmelden kan tot 25 november.</p><p>Aanmelden via deze link:&nbsp;<a href="https://forms.office.com/e/bk5zjvKmxq">https://forms.office.com/e/bk5zjvKmxq</a><br /><br />Mocht je vragen hebben neem dan even contact met het O-Team.<br /><a href="mailto:oteam@poolduikers.nl">oteam@poolduikers.nl</a><br /><br />We zouden het heel leuk vinden als jullie deelnemen aan het duiken bij Monte mare.<br /><br />O-Team<br /><br />Sander, Dave en Kiki</p>
LAST-MODIFIED:20230308T122336Z
SEQUENCE:6372
LOCATION:Münstereifeler Str 69\, 53359 Rheinbach\, Duitsland
GEO:47.00000000;4.00000000
X-LOCATION-DISPLAYNAME:Monte Mare (Münstereifeler Str. 69, 53359 Rheinbach, Duitsland)
X-ACCESS:1
X-HITS:111
X-COLOR:f5a505
X-SHOW-END-TIME:1
END:VEVENT
END:VCALENDAR