BEGIN:VCALENDAR
VERSION:2.0
PRODID:DPCALENDAR
CALSCALE:GREGORIAN
BEGIN:VTIMEZONE
TZID:Europe/Amsterdam
BEGIN:STANDARD
DTSTART:20251026T010000
TZOFFSETFROM:+0200
TZOFFSETTO:+0100
TZNAME:CET
END:STANDARD
BEGIN:STANDARD
DTSTART:20261025T010000
TZOFFSETFROM:+0200
TZOFFSETTO:+0100
TZNAME:CET
END:STANDARD
BEGIN:DAYLIGHT
DTSTART:20260329T010000
TZOFFSETFROM:+0100
TZOFFSETTO:+0200
TZNAME:CEST
END:DAYLIGHT
END:VTIMEZONE
X-WR-TIMEZONE:Europe/Amsterdam
BEGIN:VEVENT
DTSTART;TZID=Europe/Amsterdam:20221002T133000
DTEND;TZID=Europe/Amsterdam:20221002T163000
UID:9C9E9DF6-885C-4952-9CB0-80FB97EDCB6D
SUMMARY:DUIKONGEVALLENSIMULATIE
CREATED:20220926T050127Z
DTSTAMP:20220926T050127Z
URL:https://poolduikers.nl/activiteiten/inschrijven-activiteiten/duikongevallensimulatie
LAST-MODIFIED:20220926T051107Z
SEQUENCE:580
LOCATION:Meers\, 6017 BD Thorn\, Limburg\, Nederland
GEO:51.15373430;5.86090970
X-LOCATION-DISPLAYNAME:Nederland, Limburg, Thorn, 6017BD, Meers, 32
X-ACCESS:1
X-HITS:9
X-COLOR:fc0a0a
X-SHOW-END-TIME:1
END:VEVENT
BEGIN:VEVENT
DTSTART;TZID=Europe/Amsterdam:20230109T193000
DTEND;TZID=Europe/Amsterdam:20230109T213000
UID:BCC00596-837B-48C8-AA50-5FD83D04B6B3
SUMMARY:Openavond
CREATED:20220926T055454Z
DTSTAMP:20220926T055454Z
URL:https://poolduikers.nl/activiteiten/inschrijven-activiteiten/openavond
DESCRIPTION:We organiseren dan een open avond voor alle mensen van 14 jaar en ouder die erover denken de duiksport te willen gaan beoefenen.\N \NVul de duikmedische zelfcheck in op https://www.medischecheckvoorduikers.nl/.Kies voor "geen instructeur" bij vraag 1 en "maken van een introduik" bij vraag 2De uitkomst van deze duikmedische zelfcheck is dat er op dit moment GEEN advies van een duikerarts nodig is
X-ALT-DESC;FMTTYPE=text/html:<p>We organiseren dan een open avond voor alle mensen van 14 jaar en ouder die erover denken de duiksport te willen gaan beoefenen.</p><p>&nbsp;</p><p>Vul de duikmedische zelfcheck in op&nbsp;<a href="https://www.medischecheckvoorduikers.nl/" target="_blank" rel="noopener" class="linkified"></a><a href="https://www.medischecheckvoorduikers.nl/">https://www.medischecheckvoorduikers.nl/</a>.<br />Kies voor "geen instructeur" bij vraag 1 en "maken van een introduik" bij vraag 2<br />De uitkomst van deze duikmedische zelfcheck is dat er op dit moment GEEN advies van een duikerarts nodig is</p>
LAST-MODIFIED:20221210T095045Z
SEQUENCE:6494151
LOCATION:
GEO:0.00000000;0.00000000
X-LOCATION-DISPLAYNAME:Wijngracht 61, 6461 ALKerkrade,Nederland
X-ACCESS:1
X-HITS:107
X-COLOR:f5a505
X-SHOW-END-TIME:1
END:VEVENT
BEGIN:VEVENT
DTSTART;TZID=Europe/Amsterdam:20230515T193000
DTEND;TZID=Europe/Amsterdam:20230515T213000
UID:1F03349B-55B5-4138-B77F-4DD70CE6595C
SUMMARY:Openavond
CREATED:20220926T055454Z
DTSTAMP:20220926T055454Z
URL:https://poolduikers.nl/activiteiten/inschrijven-activiteiten/openavond-2
DESCRIPTION:Meld je aan voor een kennismakingsles.
X-ALT-DESC;FMTTYPE=text/html:<p>Meld je aan voor een kennismakingsles.</p>
LAST-MODIFIED:20221113T072239Z
SEQUENCE:4152465
LOCATION:
GEO:0.00000000;0.00000000
X-LOCATION-DISPLAYNAME:Wijngracht 61, 6461 ALKerkrade,Nederland
X-ACCESS:1
X-HITS:23
X-COLOR:f5a505
X-SHOW-END-TIME:1
END:VEVENT
BEGIN:VEVENT
DTSTART;VALUE=DATE:20230723
DTEND;VALUE=DATE:20230724
UID:ACD37D15-79CD-4AB5-82D6-C0F82CD74375
SUMMARY:Duiken Zeeland met Ruud van Mulken
CREATED:20230626T162401Z
DTSTAMP:20230626T162401Z
URL:https://poolduikers.nl/activiteiten/inschrijven-activiteiten/duiken-zeeland-met-ruud-van-mulken
DESCRIPTION:Duiken in Zeeland.\NGrevelingen of Oosterschelde afhankelijk van deelnemers. \NOpgeven via Ruud van Mulken
X-ALT-DESC;FMTTYPE=text/html:<p>Duiken in Zeeland.</p><p>Grevelingen of Oosterschelde afhankelijk van deelnemers.&nbsp;</p><p>Opgeven via Ruud van Mulken</p>
LOCATION:
GEO:0.00000000;0.00000000
X-LOCATION-DISPLAYNAME:Wijngracht 61, 6461 ALKerkrade,Nederland
X-ACCESS:1
X-HITS:14
X-COLOR:f5a505
X-SHOW-END-TIME:0
END:VEVENT
BEGIN:VEVENT
DTSTART;TZID=Europe/Amsterdam:20230827T123000
DTEND;TZID=Europe/Amsterdam:20230827T163000
UID:56BC8A46-39FF-4B9B-A887-2AEDDDA58203
SUMMARY:Duik naar La Gombe - Esneux
CREATED:20230823T164300Z
DTSTAMP:20230823T164300Z
URL:https://poolduikers.nl/activiteiten/inschrijven-activiteiten/duik-naar-la-gombe-esneux
LAST-MODIFIED:20230823T164544Z
SEQUENCE:164
LOCATION:
GEO:0.00000000;0.00000000
X-LOCATION-DISPLAYNAME:Wijngracht 61, 6461 ALKerkrade,Nederland
X-ACCESS:1
X-HITS:4
X-COLOR:f5a505
X-SHOW-END-TIME:1
END:VEVENT
END:VCALENDAR